Workbook
Name _firstRow: #REF!
Name _firstRow: #REF!
Name _firstRow: #REF!
Name _firstRow: #REF!
Name _firstRow: #REF!
Name _firstRow: #REF!
Name _firstRow: #REF!
Name _firstRow: #REF!
Name _lastColumn: #REF!
Name _lastColumn: #REF!
Name _lastColumn: #REF!
Name _lastColumn: #REF!
Name _lastColumn: #REF!
Name _lastColumn: #REF!
Name _lastColumn: #REF!
Name _lastColumn: #REF!
Name date.e: '[1]Sheet1 (3)'!#REF!
Name date.e: '[1]Sheet1 (3)'!#REF!
Name date.e: '[1]Sheet1 (3)'!#REF!
Name date.e: '[1]Sheet1 (3)'!#REF!
Name date.e: '[1]Sheet1 (3)'!#REF!
Name date.e: '[1]Sheet1 (3)'!#REF!
Name date.e: '[1]Sheet1 (3)'!#REF!
Name date.e: '[1]Sheet1 (3)'!#REF!
Name date_b: #REF!
Name date_b: #REF!
Name date_b: #REF!
Name date_b: #REF!
Name date_b: #REF!
Name date_b: #REF!
Name date_b: #REF!
Name date_b: #REF!
Name date_e: '[1]Sheet1 (2)'!#REF!
Name date_e: '[1]Sheet1 (2)'!#REF!
Name date_e: '[1]Sheet1 (2)'!#REF!
Name date_e: '[1]Sheet1 (2)'!#REF!
Name date_e: '[1]Sheet1 (2)'!#REF!
Name date_e: '[1]Sheet1 (2)'!#REF!
Name date_e: '[1]Sheet1 (2)'!#REF!
Name date_e: '[1]Sheet1 (2)'!#REF!
Name Excel_BuiltIn_Print_Area_1: #REF!
Name Excel_BuiltIn_Print_Area_1: #REF!
Name Excel_BuiltIn_Print_Area_1: #REF!
Name Excel_BuiltIn_Print_Area_1: #REF!
Name Excel_BuiltIn_Print_Area_1: #REF!
Name Excel_BuiltIn_Print_Area_1: #REF!
Name Excel_BuiltIn_Print_Area_1: #REF!
Name Excel_BuiltIn_Print_Area_1: #REF!
Name hjj: [2]Sheet3!$A$3
Name hjj: [2]Sheet3!$A$3
Name hjj: [2]Sheet3!$A$3
Name hjj: [2]Sheet3!$A$3
Name hjj: [2]Sheet3!$A$3
Name hjj: [2]Sheet3!$A$3
Name hl_0: #REF!
Name hl_0: #REF!
Name hl_0: #REF!
Name hl_0: #REF!
Name hl_0: #REF!
Name hl_0: #REF!

Sheet Послуги
B1: Надання послуг Львівською обласною службою зайнятості | L1: Продовження таблиці
B2: у січні–вересні 2026 року
B3: Отримували послуги, осіб | C3: з них, мали статус безробітного, осіб | D3: Працевлаш-товано, осіб | E3: у тому числі безробітних за компенсаційними програмами, осіб | F3: Отримали ваучери на навчання, осіб | G3: Проходили професійне навчання, осіб | H3: Кількість направлень на суспільно корисні роботи | I3: Брали участь у громадських та інших роботах тимчасового характеру, осіб | J3: Надано компенсацію витрат за облаштування робочих місць працевлаштованих людей з інвалідністю, осіб | K3: Працевлаштовано ВПО з компенсацією витрат на оплату праці під час дії воєнного стану, осіб | L3: станом на 01.10.2026
L4: Отримували послуги, осіб | M4: з них, мали статус безробітного
A5: Львівська область | B5: 32176 | C5: 15147 | D5: 15590 | E5: 1364 | F5: 514 | G5: 3227 | H5: 4034 | I5: 1172 | J5: 21 | K5: 325 | L5: 9284 | M5: 3889
A6: ДРОГОБИЦЬКА філія ЛОЦЗ | B6: 4617 | C6: 1874 | D6: 2710 | E6: 203 | F6: 59 | G6: 504 | H6: 547 | I6: 215 | J6: 3 | K6: 47 | L6: 1390 | M6: 468
A7: ЗОЛОЧІВСЬКА філія ЛОЦЗ | B7: 3351 | C7: 1416 | D7: 1720 | E7: 131 | F7: 28 | G7: 316 | H7: 476 | I7: 78 | J7: 0 | K7: 16 | L7: 816 | M7: 412
A8: ЛЬВІВСЬКА філія ЛОЦЗ | B8: 9318 | C8: 5312 | D8: 3810 | E8: 508 | F8: 220 | G8: 1041 | H8: 1565 | I8: 310 | J8: 9 | K8: 131 | L8: 2367 | M8: 1286
A9: САМБІРСЬКА філія ЛОЦЗ | B9: 3689 | C9: 1725 | D9: 1674 | E9: 75 | F9: 68 | G9: 326 | H9: 322 | I9: 101 | J9: 3 | K9: 29 | L9: 1140 | M9: 481
A10: СТРИЙСЬКА філія ЛОЦЗ | B10: 5604 | C10: 2491 | D10: 2740 | E10: 155 | F10: 48 | G10: 453 | H10: 567 | I10: 225 | J10: 2 | K10: 32 | L10: 1834 | M10: 661
A11: ШЕПТИЦЬКА філія ЛОЦЗ | B11: 3151 | C11: 1300 | D11: 1563 | E11: 153 | F11: 32 | G11: 248 | H11: 357 | I11: 193 | J11: 3 | K11: 53 | L11: 930 | M11: 303
A12: ЯВОРІВСЬКА філія ЛОЦЗ | B12: 2446 | C12: 1029 | D12: 1373 | E12: 139 | F12: 59 | G12: 339 | H12: 200 | I12: 50 | J12: 1 | K12: 17 | L12: 807 | M12: 278

Sheet Жінки
B1: Надання послуг Львівською обласною службою зайнятості жінкам
B2: у січні–вересні 2026 року
B3: Отримували послуги, осіб | C3: з них, мали статус безробітного, осіб | D3: Працевлаш-товано, осіб | E3: Отримали ваучери на навчання, осіб | F3: Проходили професійне навчання, осіб | G3: Брали участь у громадських та інших роботах тимчасового характеру, осіб | H3: =Послуги!L3 -> станом на 01.10.2026
H4: Отримували послуги, осіб | I4: з них, мали статус безробітного, осіб
A5: Львівська область | B5: 20878 | C5: 12170 | D5: 9835 | E5: 278 | F5: 2735 | G5: 991 | H5: 6295 | I5: 3189
A6: ДРОГОБИЦЬКА філія ЛОЦЗ | B6: 2906 | C6: 1469 | D6: 1605 | E6: 35 | F6: 417 | G6: 194 | H6: 906 | I6: 399
A7: ЗОЛОЧІВСЬКА філія ЛОЦЗ | B7: 2069 | C7: 1088 | D7: 1029 | E7: 9 | F7: 254 | G7: 59 | H7: 510 | I7: 321
A8: ЛЬВІВСЬКА філія ЛОЦЗ | B8: 6505 | C8: 4358 | D8: 2619 | E8: 114 | F8: 915 | G8: 227 | H8: 1746 | I8: 1084
A9: САМБІРСЬКА філія ЛОЦЗ | B9: 2363 | C9: 1358 | D9: 1121 | E9: 48 | F9: 251 | G9: 84 | H9: 767 | I9: 353
A10: СТРИЙСЬКА філія ЛОЦЗ | B10: 3741 | C10: 2044 | D10: 1824 | E10: 26 | F10: 391 | G10: 215 | H10: 1313 | I10: 548
A11: ШЕПТИЦЬКА філія ЛОЦЗ | B11: 1892 | C11: 1046 | D11: 848 | E11: 17 | F11: 216 | G11: 162 | H11: 558 | I11: 255
A12: ЯВОРІВСЬКА філія ЛОЦЗ | B12: 1402 | C12: 807 | D12: 789 | E12: 29 | F12: 291 | G12: 50 | H12: 495 | I12: 229

Sheet Молодь
A1: Надання послуг Львівською обласною службою зайнятості молоді у віці до 35 років (включно)
B2: у січні–вересні 2026 року
B3: Отримували послуги, осіб | C3: з них, мали статус безробітного, осіб | D3: Працевлаш-товано, осіб | E3: Отримали ваучери на навчання, осіб | F3: Проходили професійне навчання, осіб | G3: Брали участь у громадських та інших роботах тимчасового характеру, осіб | H3: =Послуги!L3 -> станом на 01.10.2026
H4: Отримували послуги, осіб | I4: з них, мали статус безробітного, осіб
A5: Львівська область | B5: 9455 | C5: 4818 | D5: 5080 | E5: 80 | F5: 1090 | G5: 239 | H5: 2530 | I5: 1075
A6: ДРОГОБИЦЬКА філія ЛОЦЗ | B6: 1280 | C6: 596 | D6: 766 | E6: 10 | F6: 151 | G6: 88 | H6: 338 | I6: 134
A7: ЗОЛОЧІВСЬКА філія ЛОЦЗ | B7: 967 | C7: 490 | D7: 516 | E7: 7 | F7: 92 | G7: 22 | H7: 227 | I7: 131
A8: ЛЬВІВСЬКА філія ЛОЦЗ | B8: 2903 | C8: 1701 | D8: 1445 | E8: 27 | F8: 418 | G8: 52 | H8: 608 | I8: 360
A9: САМБІРСЬКА філія ЛОЦЗ | B9: 1004 | C9: 537 | D9: 491 | E9: 7 | F9: 83 | G9: 7 | H9: 303 | I9: 123
A10: СТРИЙСЬКА філія ЛОЦЗ | B10: 1542 | C10: 729 | D10: 810 | E10: 12 | F10: 131 | G10: 27 | H10: 527 | I10: 175
A11: ШЕПТИЦЬКА філія ЛОЦЗ | B11: 1001 | C11: 425 | D11: 584 | E11: 4 | F11: 103 | G11: 27 | H11: 278 | I11: 75
A12: ЯВОРІВСЬКА філія ЛОЦЗ | B12: 758 | C12: 340 | D12: 468 | E12: 13 | F12: 112 | G12: 16 | H12: 249 | I12: 77

Sheet Особи з інвалідністю
A1: Надання послуг Львівською обласною службою зайнятості особам з інвалідністю
B2: у січні–вересні 2026 року
B3: Отримували послуги, осіб | C3: з них, мали статус безробітного, осіб | D3: Працевлаш-товано, осіб | E3: Отримали ваучери на навчання, осіб | F3: Проходили професійне навчання, осіб | G3: Брали участь у громадських та інших роботах тимчасового характеру, осіб | H3: Надано компенсацію витрат за облаштування робочих місць працевлаштованих людей з інвалідністю, осіб | I3: =Послуги!L3 -> станом на 01.10.2026
I4: Отримували послуги, осіб | J4: з них, мали статус безробітного, осіб
A5: Львівська область | B5: 2006 | C5: 1751 | D5: 557 | E5: 74 | F5: 271 | G5: 140 | H5: 21 | I5: 563 | J5: 459
A6: ДРОГОБИЦЬКА філія ЛОЦЗ | B6: 229 | C6: 188 | D6: 72 | E6: 5 | F6: 44 | G6: 18 | H6: 3 | I6: 64 | J6: 50
A7: ЗОЛОЧІВСЬКА філія ЛОЦЗ | B7: 193 | C7: 183 | D7: 58 | E7: 4 | F7: 31 | G7: 2 | H7: 0 | I7: 54 | J7: 48
A8: ЛЬВІВСЬКА філія ЛОЦЗ | B8: 790 | C8: 671 | D8: 190 | E8: 38 | F8: 84 | G8: 55 | H8: 9 | I8: 232 | J8: 176
A9: САМБІРСЬКА філія ЛОЦЗ | B9: 202 | C9: 175 | D9: 52 | E9: 13 | F9: 35 | G9: 10 | H9: 3 | I9: 65 | J9: 55
A10: СТРИЙСЬКА філія ЛОЦЗ | B10: 276 | C10: 261 | D10: 84 | E10: 4 | F10: 36 | G10: 20 | H10: 2 | I10: 68 | J10: 65
A11: ШЕПТИЦЬКА філія ЛОЦЗ | B11: 185 | C11: 158 | D11: 57 | E11: 3 | F11: 19 | G11: 33 | H11: 3 | I11: 41 | J11: 33
A12: ЯВОРІВСЬКА філія ЛОЦЗ | B12: 131 | C12: 115 | D12: 44 | E12: 7 | F12: 22 | G12: 2 | H12: 1 | I12: 39 | J12: 32

Sheet ВПО
A1: Надання послуг Львівською обласною службою зайнятості внутрішньо переміщеним особам
B2: у січні–вересні 2026 року
B3: Отримували послуги, осіб | C3: з них, мали статус безробітного, осіб | D3: Працевлаш-товано, осіб | E3: з них: | G3: Проходили професійне навчання, осіб | H3: Отримали ваучери на навчання, осіб | I3: Брали участь у громадських та інших роботах тимчасового характеру, осіб | J3: =Послуги!L3 -> станом на 01.10.2026
E4: працевлаштовано безробітних з компенсацією роботодавцю витрат на оплату праці (стаття 241 ЗУ "Про зайнятість населення"), осіб | F4: працевлаштовано з компенсацією витрат на оплату праці під час дії воєнного стану (постанова КМУ від 20.03.2022 р. № 331), осіб | J4: Отримували послуги, осіб | K4: з них, мали статус безробітного, осіб
A5: Львівська область | B5: 2793 | C5: 1863 | D5: 769 | E5: 72 | F5: 325 | G5: 282 | H5: 85 | I5: 65 | J5: 917 | K5: 545
A6: ДРОГОБИЦЬКА філія ЛОЦЗ | B6: 524 | C6: 327 | D6: 171 | E6: 14 | F6: 47 | G6: 80 | H6: 12 | I6: 10 | J6: 181 | K6: 106
A7: ЗОЛОЧІВСЬКА філія ЛОЦЗ | B7: 192 | C7: 121 | D7: 39 | E7: 7 | F7: 16 | G7: 9 | H7: 10 | I7: 6 | J7: 64 | K7: 35
A8: ЛЬВІВСЬКА філія ЛОЦЗ | B8: 950 | C8: 621 | D8: 224 | E8: 31 | F8: 131 | G8: 77 | H8: 33 | I8: 6 | J8: 283 | K8: 162
A9: САМБІРСЬКА філія ЛОЦЗ | B9: 264 | C9: 202 | D9: 69 | E9: 1 | F9: 29 | G9: 23 | H9: 7 | I9: 0 | J9: 94 | K9: 68
A10: СТРИЙСЬКА філія ЛОЦЗ | B10: 415 | C10: 332 | D10: 120 | E10: 5 | F10: 32 | G10: 41 | H10: 13 | I10: 36 | J10: 155 | K10: 112
A11: ШЕПТИЦЬКА філія ЛОЦЗ | B11: 342 | C11: 180 | D11: 107 | E11: 14 | F11: 53 | G11: 31 | H11: 7 | I11: 5 | J11: 101 | K11: 39
A12: ЯВОРІВСЬКА філія ЛОЦЗ | B12: 106 | C12: 80 | D12: 39 | E12: 0 | F12: 17 | G12: 21 | H12: 3 | I12: 2 | J12: 39 | K12: 23

Sheet УБД
A1: Надання послуг Львівською обласною службою зайнятості учасникам бойових дій
B2: у січні–вересні 2026 року
B3: Отримували послуги, осіб | C3: з них, мали статус безробітного, осіб | D3: Працевлаш-товано, осіб | E3: Отримали ваучери на навчання, осіб | F3: Проходили професійне навчання, осіб | G3: Брали участь у громадських та інших роботах тимчасового характеру, осіб | H3: =Послуги!L3 -> станом на 01.10.2026
H4: Отримували послуги, осіб | I4: з них, мали статус безробітного, осіб
A5: Львівська область | B5: 888 | C5: 723 | D5: 177 | E5: 71 | F5: 79 | G5: 5 | H5: 270 | I5: 196
A6: ДРОГОБИЦЬКА філія ЛОЦЗ | B6: 94 | C6: 78 | D6: 19 | E6: 10 | F6: 20 | G6: 0 | H6: 30 | I6: 22
A7: ЗОЛОЧІВСЬКА філія ЛОЦЗ | B7: 79 | C7: 73 | D7: 18 | E7: 3 | F7: 4 | G7: 0 | H7: 22 | I7: 18
A8: ЛЬВІВСЬКА філія ЛОЦЗ | B8: 322 | C8: 255 | D8: 57 | E8: 32 | F8: 20 | G8: 2 | H8: 94 | I8: 63
A9: САМБІРСЬКА філія ЛОЦЗ | B9: 91 | C9: 77 | D9: 17 | E9: 6 | F9: 8 | G9: 0 | H9: 34 | I9: 30
A10: СТРИЙСЬКА філія ЛОЦЗ | B10: 142 | C10: 115 | D10: 27 | E10: 8 | F10: 10 | G10: 3 | H10: 40 | I10: 31
A11: ШЕПТИЦЬКА філія ЛОЦЗ | B11: 74 | C11: 56 | D11: 20 | E11: 5 | F11: 6 | G11: 0 | H11: 20 | I11: 11
A12: ЯВОРІВСЬКА філія ЛОЦЗ | B12: 86 | C12: 69 | D12: 19 | E12: 7 | F12: 11 | G12: 0 | H12: 30 | I12: 21

Sheet розрахун рейтинг
B2: Області | C2: показник | D2: рейтинг
A3: 1 | B3: 2 | C3: 3 | D3: 4
A4: 1 | B4: Вінницька | C4: 32 | D4: 16
A5: 2 | B5: Волинська | C5: 30 | D5: 17
A6: 3 | B6: Дніпропетровська | C6: 239 | D6: 1
A7: 4 | B7: Донецька | C7: 61 | D7: 9
A8: 5 | B8: Житомирська | C8: 25 | D8: 18
A9: 6 | B9: Закарпатська | C9: 42 | D9: 13
A10: 7 | B10: Запорізька | C10: 145 | D10: 4
A11: 8 | B11: Івано-Франківська | C11: 46 | D11: 11
A12: 9 | B12: Київська | C12: 86 | D12: 6
A13: 10 | B13: Кіровоградська | C13: 33 | D13: 15
A14: 11 | B14: Луганська | C14: 14 | D14: 24
A15: 12 | B15: Львівська | C15: 55 | D15: 10
... A28: 25 | B28: м. Київ | C28: 228 | D28: 2

Sheet для інфограф.
B1: =Послуги!B2 -> у січні–вересні 2026 року
B2: ВПО
B3: отримували послуги | C3: =ВПО!B5 -> 2793
B4: працевлаштовано | C4: =ВПО!D5 -> 769
B5: працевлаштовано з компенсацією витрат на оплату праці | C5: =ВПО!E5+ВПО!F5 -> 397
B6: проходили навчання | C6: =ВПО!G5 -> 282
B7: видано ваучерів на навчання | C7: =ВПО!H5 -> 85
B9: отримують послуги на кінець періоду | C9: =ВПО!J5 -> 917
B10: Люди з інвалідністю
B11: отримували послуги | C11: ='Особи з інвалідністю'!B5 -> 2006
B12: працевлаштовано | C12: ='Особи з інвалідністю'!D5 -> 557
B13: проходили навчання | C13: ='Особи з інвалідністю'!F5 -> 271
B14: видано ваучерів на навчання | C14: ='Особи з інвалідністю'!E5 -> 74
B15: компенсація витрат за облаштування робочого місця працівника з інвалідністю | C15: ='Особи з інвалідністю'!H5 -> 21
B17: отримують послуги на кінець періоду | C17: ='Особи з інвалідністю'!I5 -> 563
B18: УБД
B19: отримували послуги | C19: =УБД!B5 -> 888
B20: працевлаштовано | C20: =УБД!D5 -> 177
B21: проходили навчання | C21: =УБД!F5 -> 79
B22: видано ваучерів на навчання | C22: =УБД!E5 -> 71
B23: прийнято позитивні рішення про надання грантів на створення або розвиток власного бізнесу | C23: 115
B25: отримують послуги на кінець періоду | C25: =УБД!H5 -> 270
B26: Жінки
B27: отримували послуги | C27: =Жінки!B5 -> 20878
B28: працевлаштовано | C28: =Жінки!D5 -> 9835
B29: проходили навчання | C29: =Жінки!F5 -> 2735
B30: видано ваучерів на навчання | C30: =Жінки!E5 -> 278
B32: отримують послуги на кінець періоду | C32: =Жінки!H5 -> 6295
B33: Молодь д 35 років
B34: отримували послуги | C34: =Молодь!B5 -> 9455
B35: працевлаштовано | C35: =Молодь!D5 -> 5080
B36: проходили навчання | C36: =Молодь!F5 -> 1090
B37: видано ваучерів на навчання | C37: =Молодь!E5 -> 80
B39: отримують послуги на кінець періоду | C39: =Молодь!H5 -> 2530

Sheet Перевірка
A2: 15-38
A3: 46303 | B3: ПОСЛУГИ | N3: жінки | V3: молодь | AD3: особи з інвалідністю | AM3: ВПО | AW3: УБД
B4: Отримували послуги, осіб | C4: з них, мали статус безробітного, осіб | D4: Працевлаш-товано, осіб | E4: у тому числі безробітних за компенсаційними програмами, осіб | F4: Отримали ваучери на навчання, осіб | G4: Проходили професійне навчання, осіб | H4: Кількість направлень на суспільно корисні роботи | I4: Брали участь у громадських та інших роботах тимчасового характеру, осіб | J4: Надано компенсацію витрат за облаштування робочих місць працевлаштованих людей з інвалідністю, осіб | K4: Працевлаштовано ВПО з компенсацією витрат на оплату праці під час дії воєнного стану, осіб | L4: на кінець періоду | N4: Отримували послуги, осіб | O4: з них, мали статус безробітного, осіб | P4: Працевлаш-товано, осіб | Q4: Отримали ваучери на навчання, осіб | R4: Проходили професійне навчання, осіб | S4: Брали участь у громадських та інших роботах тимчасового характеру, осіб | T4: =L4 -> на кінець періоду | V4: Отримували послуги, осіб | W4: з них, мали статус безробітного, осіб | X4: Працевлаштовано, осіб | Y4: Отримали ваучери на навчання, осіб | Z4: Проходили професійне навчання, осіб | AA4: Брали участь у громадських та інших роботах тимчасового характеру, осіб | AB4: =L4 -> на кінець періоду | AD4: Отримували послуги, осіб | AE4: з них, мали статус безробітного, осіб | AF4: Працевлаш-товано, осіб | AG4: Отримали ваучери на навчання, осіб | AH4: Проходили професійне навчання, осіб | AI4: Брали участь у громадських та інших роботах тимчасового характеру, осіб | AJ4: Надано компенсацію витрат за облаштування робочих місць працевлаштованих людей з інвалідністю, осіб | AK4: =L4 -> на кінець періоду | AM4: Отримували послуги, осіб | AN4: з них, мали статус безробітного, осіб | AO4: Працевлаш-товано, осіб | AP4: з них: | AR4: Проходили професійне навчання, осіб | AS4: Отримали ваучери на навчання, осіб | AT4: Брали участь у громадських та інших роботах тимчасового характеру, осіб | AU4: =L4 -> на кінець періоду | AW4: Отримували послуги, осіб | AX4: з них, мали статус безробітного, осіб | AY4: Працевлаш-товано, осіб | AZ4: Отримали ваучери на навчання, осіб | BA4: Проходили професійне навчання, осіб | BB4: Брали участь у громадських та інших роботах тимчасового характеру, осіб | BC4: =L4 -> на кінець періоду
L5: Отримували послуги, осіб | M5: з них, мали статус безробітного | T5: Отримували послуги, осіб | U5: з них, мали статус безробітного, осіб | AB5: Отримували послуги, осіб | AC5: з них, мали статус безробітного, осіб | AK5: Отримували послуги, осіб | AL5: з них, мали статус безробітного, осіб | AP5: працевлаштовано безробітних з компенсацією роботодавцю витрат на оплату праці (стаття 241 ЗУ "Про зайнятість населення"), осіб | AQ5: працевлаштовано з компенсацією витрат на оплату праці під час дії воєнного стану (постанова КМУ від 20.03.2022 р. № 331), осіб | AU5: Отримували послуги, осіб | AV5: з них, мали статус безробітного, осіб | BC5: Отримували послуги, осіб | BD5: з них, мали статус безробітного, осіб
A6: Львівська область | B6: 32176 | C6: 15147 | D6: 15590 | F6: 514 | G6: 3227 | H6: 4034 | I6: 1172 | J6: 21 | K6: 325 | L6: 9284 | M6: 3889 | N6: 20878 | O6: 12170 | P6: 9835 | Q6: 278 | R6: 2735 | S6: 991 | T6: 6295 | U6: 3189 | V6: 9455 | W6: 4818 | X6: 5080 | Y6: 80 | Z6: 1090 | AA6: 239 | AB6: 2530 | AC6: 1075 | AD6: 2006 | AE6: 1751 | AF6: 557 | AG6: 74 | AH6: 271 | AI6: 140 | AJ6: 21 | AK6: 563 | AL6: 459 | AM6: 2793 | AN6: 1863 | AO6: 769 | AP6: 72 | AQ6: 325 | AR6: 282 | AS6: 85 | AT6: 65 | AU6: 917 | AV6: 545 | AW6: 888 | AX6: 723 | AY6: 177 | AZ6: 71 | BA6: 79 | BB6: 5 | BC6: 270 | BD6: 196
A7: ДРОГОБИЦЬКА філія ЛОЦЗ | B7: 4617 | C7: 1874 | D7: 2710 | F7: 59 | G7: 504 | H7: 547 | I7: 215 | J7: 3 | K7: 47 | L7: 1390 | M7: 468 | N7: 2906 | O7: 1469 | P7: 1605 | Q7: 35 | R7: 417 | S7: 194 | T7: 906 | U7: 399 | V7: 1280 | W7: 596 | X7: 766 | Y7: 10 | Z7: 151 | AA7: 88 | AB7: 338 | AC7: 134 | AD7: 229 | AE7: 188 | AF7: 72 | AG7: 5 | AH7: 44 | AI7: 18 | AJ7: 3 | AK7: 64 | AL7: 50 | AM7: 524 | AN7: 327 | AO7: 171 | AP7: 14 | AQ7: 47 | AR7: 80 | AS7: 12 | AT7: 10 | AU7: 181 | AV7: 106 | AW7: 94 | AX7: 78 | AY7: 19 | AZ7: 10 | BA7: 20 | BB7: 0 | BC7: 30 | BD7: 22
A8: ЗОЛОЧІВСЬКА філія ЛОЦЗ | B8: 3351 | C8: 1416 | D8: 1720 | F8: 28 | G8: 316 | H8: 476 | I8: 78 | J8: 0 | K8: 16 | L8: 816 | M8: 412 | N8: 2069 | O8: 1088 | P8: 1029 | Q8: 9 | R8: 254 | S8: 59 | T8: 510 | U8: 321 | V8: 967 | W8: 490 | X8: 516 | Y8: 7 | Z8: 92 | AA8: 22 | AB8: 227 | AC8: 131 | AD8: 193 | AE8: 183 | AF8: 58 | AG8: 4 | AH8: 31 | AI8: 2 | AJ8: 0 | AK8: 54 | AL8: 48 | AM8: 192 | AN8: 121 | AO8: 39 | AP8: 7 | AQ8: 16 | AR8: 9 | AS8: 10 | AT8: 6 | AU8: 64 | AV8: 35 | AW8: 79 | AX8: 73 | AY8: 18 | AZ8: 3 | BA8: 4 | BB8: 0 | BC8: 22 | BD8: 18
A9: ЛЬВІВСЬКА філія ЛОЦЗ | B9: 9318 | C9: 5312 | D9: 3810 | F9: 220 | G9: 1041 | H9: 1565 | I9: 310 | J9: 9 | K9: 131 | L9: 2367 | M9: 1286 | N9: 6505 | O9: 4358 | P9: 2619 | Q9: 114 | R9: 915 | S9: 227 | T9: 1746 | U9: 1084 | V9: 2903 | W9: 1701 | X9: 1445 | Y9: 27 | Z9: 418 | AA9: 52 | AB9: 608 | AC9: 360 | AD9: 790 | AE9: 671 | AF9: 190 | AG9: 38 | AH9: 84 | AI9: 55 | AJ9: 9 | AK9: 232 | AL9: 176 | AM9: 950 | AN9: 621 | AO9: 224 | AP9: 31 | AQ9: 131 | AR9: 77 | AS9: 33 | AT9: 6 | AU9: 283 | AV9: 162 | AW9: 322 | AX9: 255 | AY9: 57 | AZ9: 32 | BA9: 20 | BB9: 2 | BC9: 94 | BD9: 63
A10: САМБІРСЬКА філія ЛОЦЗ | B10: 3689 | C10: 1725 | D10: 1674 | F10: 68 | G10: 326 | H10: 322 | I10: 101 | J10: 3 | K10: 29 | L10: 1140 | M10: 481 | N10: 2363 | O10: 1358 | P10: 1121 | Q10: 48 | R10: 251 | S10: 84 | T10: 767 | U10: 353 | V10: 1004 | W10: 537 | X10: 491 | Y10: 7 | Z10: 83 | AA10: 7 | AB10: 303 | AC10: 123 | AD10: 202 | AE10: 175 | AF10: 52 | AG10: 13 | AH10: 35 | AI10: 10 | AJ10: 3 | AK10: 65 | AL10: 55 | AM10: 264 | AN10: 202 | AO10: 69 | AP10: 1 | AQ10: 29 | AR10: 23 | AS10: 7 | AT10: 0 | AU10: 94 | AV10: 68 | AW10: 91 | AX10: 77 | AY10: 17 | AZ10: 6 | BA10: 8 | BB10: 0 | BC10: 34 | BD10: 30
A11: СТРИЙСЬКА філія ЛОЦЗ | B11: 5604 | C11: 2491 | D11: 2740 | F11: 48 | G11: 453 | H11: 567 | I11: 225 | J11: 2 | K11: 32 | L11: 1834 | M11: 661 | N11: 3741 | O11: 2044 | P11: 1824 | Q11: 26 | R11: 391 | S11: 215 | T11: 1313 | U11: 548 | V11: 1542 | W11: 729 | X11: 810 | Y11: 12 | Z11: 131 | AA11: 27 | AB11: 527 | AC11: 175 | AD11: 276 | AE11: 261 | AF11: 84 | AG11: 4 | AH11: 36 | AI11: 20 | AJ11: 2 | AK11: 68 | AL11: 65 | AM11: 415 | AN11: 332 | AO11: 120 | AP11: 5 | AQ11: 32 | AR11: 41 | AS11: 13 | AT11: 36 | AU11: 155 | AV11: 112 | AW11: 142 | AX11: 115 | AY11: 27 | AZ11: 8 | BA11: 10 | BB11: 3 | BC11: 40 | BD11: 31
A12: ШЕПТИЦЬКА філія ЛОЦЗ | B12: 3151 | C12: 1300 | D12: 1563 | F12: 32 | G12: 248 | H12: 357 | I12: 193 | J12: 3 | K12: 53 | L12: 930 | M12: 303 | N12: 1892 | O12: 1046 | P12: 848 | Q12: 17 | R12: 216 | S12: 162 | T12: 558 | U12: 255 | V12: 1001 | W12: 425 | X12: 584 | Y12: 4 | Z12: 103 | AA12: 27 | AB12: 278 | AC12: 75 | AD12: 185 | AE12: 158 | AF12: 57 | AG12: 3 | AH12: 19 | AI12: 33 | AJ12: 3 | AK12: 41 | AL12: 33 | AM12: 342 | AN12: 180 | AO12: 107 | AP12: 14 | AQ12: 53 | AR12: 31 | AS12: 7 | AT12: 5 | AU12: 101 | AV12: 39 | AW12: 74 | AX12: 56 | AY12: 20 | AZ12: 5 | BA12: 6 | BB12: 0 | BC12: 20 | BD12: 11
A13: ЯВОРІВСЬКА філія ЛОЦЗ | B13: 2446 | C13: 1029 | D13: 1373 | F13: 59 | G13: 339 | H13: 200 | I13: 50 | J13: 1 | K13: 17 | L13: 807 | M13: 278 | N13: 1402 | O13: 807 | P13: 789 | Q13: 29 | R13: 291 | S13: 50 | T13: 495 | U13: 229 | V13: 758 | W13: 340 | X13: 468 | Y13: 13 | Z13: 112 | AA13: 16 | AB13: 249 | AC13: 77 | AD13: 131 | AE13: 115 | AF13: 44 | AG13: 7 | AH13: 22 | AI13: 2 | AJ13: 1 | AK13: 39 | AL13: 32 | AM13: 106 | AN13: 80 | AO13: 39 | AP13: 0 | AQ13: 17 | AR13: 21 | AS13: 3 | AT13: 2 | AU13: 39 | AV13: 23 | AW13: 86 | AX13: 69 | AY13: 19 | AZ13: 7 | BA13: 11 | BB13: 0 | BC13: 30 | BD13: 21
B15: =B6-Послуги!B5 -> 0 | C15: =C6-Послуги!C5 -> 0 | D15: =D6-Послуги!D5 -> 0 | E15: =E6-Послуги!E5 -> -1364 | F15: =F6-Послуги!F5 -> 0 | G15: =G6-Послуги!G5 -> 0 | H15: =H6-Послуги!H5 -> 0 | I15: =I6-Послуги!I5 -> 0 | ... M15: =M6-Послуги!M5 -> 0 | N15: =N6-Жінки!B5 -> 0 | O15: =O6-Жінки!C5 -> 0 | P15: =P6-Жінки!D5 -> 0 | Q15: =Q6-Жінки!E5 -> 0 | R15: =R6-Жінки!F5 -> 0 | S15: =S6-Жінки!G5 -> 0 | T15: =T6-Жінки!H5 -> 0 | U15: =U6-Жінки!I5 -> 0 | V15: =V6-Молодь!B5 -> 0 | W15: =W6-Молодь!C5 -> 0 | X15: =X6-Молодь!D5 -> 0 | Y15: =Y6-Молодь!E5 -> 0 | Z15: =Z6-Молодь!F5 -> 0 | AA15: =AA6-Молодь!G5 -> 0 | AB15: =AB6-Молодь!H5 -> 0 | AC15: =AC6-Молодь!I5 -> 0 | AD15: =AD6-'Особи з інвалідністю'!B5 -> 0 | AE15: =AE6-'Особи з інвалідністю'!C5 -> 0 | AF15: =AF6-'Особи з інвалідністю'!D5 -> 0 | AG15: =AG6-'Особи з інвалідністю'!E5 -> 0 | AH15: =AH6-'Особи з інвалідністю'!F5 -> 0 | AI15: =AI6-'Особи з інвалідністю'!G5 -> 0 | AJ15: =AJ6-'Особи з інвалідністю'!H5 -> 0 | AK15: =AK6-'Особи з інвалідністю'!I5 -> 0 | AL15: =AL6-'Особи з інвалідністю'!J5 -> 0 | AM15: =AM6-ВПО!B5 -> 0 | AN15: =AN6-ВПО!C5 -> 0 | AO15: =AO6-ВПО!D5 -> 0 | AP15: =AP6-ВПО!E5 -> 0 | AQ15: =AQ6-ВПО!F5 -> 0 | AR15: =AR6-ВПО!G5 -> 0 | AS15: =AS6-ВПО!H5 -> 0 | AT15: =AT6-ВПО!I5 -> 0 | ... AV15: =AV6-ВПО!K5 -> 0 | AW15: =AW6-УБД!B5 -> 0 | AX15: =AX6-УБД!C5 -> 0 | AY15: =AY6-УБД!D5 -> 0 | AZ15: =AZ6-УБД!E5 -> 0 | BA15: =BA6-УБД!F5 -> 0 | BB15: =BB6-УБД!G5 -> 0 | BC15: =BC6-УБД!H5 -> 0 | BD15: =BD6-УБД!I5 -> 0
